BEGIN:VCALENDAR
PRODID:brasil.gov.agenda
VERSION:1.0
BEGIN:VEVENT
DTSTART:20221011T000000Z
DTEND:20221011T000000Z
DCREATED:20221104T131135Z
UID:Compromisso-03eb689896d341068caad0a1c35ecc35
SEQUENCE:0
LAST-MODIFIED:20221104T131135Z
SUMMARY:Reunião Administrativa Congragação do ICA
LOCATION:Reitoria
PRIORITY:3
TRANSP:0
END:VEVENT
END:VCALENDAR
