BEGIN:VCALENDAR
PRODID:brasil.gov.agenda
VERSION:1.0
BEGIN:VEVENT
DTSTART:20221006T080000Z
DTEND:20221006T120000Z
DCREATED:20221104T130755Z
UID:Compromisso-e426123fdf40484e81d0f208e514f5e7
SEQUENCE:0
LAST-MODIFIED:20221104T130755Z
SUMMARY:Reunião Reitor e Comunidade Acadêmica
DESCRIPTION:Balanços e Perspectivas – Continuidade
LOCATION:Reitoria
PRIORITY:3
TRANSP:0
END:VEVENT
END:VCALENDAR
