BEGIN:VCALENDAR
PRODID:brasil.gov.agenda
VERSION:1.0
BEGIN:VEVENT
DTSTART:20221006T140000Z
DTEND:20221006T180000Z
DCREATED:20221104T130813Z
UID:Compromisso-5c7f0c1b6b264df49001289df371b42c
SEQUENCE:0
LAST-MODIFIED:20221104T130813Z
SUMMARY:Despachos Internos
LOCATION:Reitoria
PRIORITY:3
TRANSP:0
END:VEVENT
END:VCALENDAR
