BEGIN:VCALENDAR
PRODID:brasil.gov.agenda
VERSION:1.0
BEGIN:VEVENT
DTSTART:20221005T080000Z
DTEND:20221005T100000Z
DCREATED:20221104T125948Z
UID:Compromisso-1ec4fdca434d44489f59fbec5a227d5f
SEQUENCE:0
LAST-MODIFIED:20221104T125948Z
SUMMARY:Reunião Reitor e Equipe da Apresentação dos Balanços e Perspectivas - Continuidade
DESCRIPTION:Continuidade - Balanços e Perspectivas
LOCATION:Reitoria
PRIORITY:3
TRANSP:0
END:VEVENT
END:VCALENDAR
