BEGIN:VCALENDAR
PRODID:brasil.gov.agenda
VERSION:1.0
BEGIN:VEVENT
DTSTART:20221005T100000Z
DTEND:20221005T120000Z
DCREATED:20221104T125224Z
UID:Compromisso-c9eb109b6e6149f4937ee71d978ec7d8
SEQUENCE:0
LAST-MODIFIED:20221104T125224Z
SUMMARY:Despachos Internos
LOCATION:Reitoria
PRIORITY:3
TRANSP:0
END:VEVENT
END:VCALENDAR
