BEGIN:VCALENDAR
PRODID:brasil.gov.agenda
VERSION:1.0
BEGIN:VEVENT
DTSTART:20221005T140000Z
DTEND:20221005T180000Z
DCREATED:20221104T125337Z
UID:Compromisso-1f1a8155de9549429290926569a50cd0
SEQUENCE:0
LAST-MODIFIED:20221104T125337Z
SUMMARY:293ª Reunião - 134ª Sessão Extraordinária do CONSU
LOCATION:Reitoria
PRIORITY:3
TRANSP:0
END:VEVENT
END:VCALENDAR
