BEGIN:VCALENDAR
PRODID:brasil.gov.agenda
VERSION:1.0
BEGIN:VEVENT
DTSTART:20221004T080000Z
DTEND:20221004T100000Z
DCREATED:20221104T124853Z
UID:Compromisso-0597abbf06ff4b869d3a2558c51dd224
SEQUENCE:0
LAST-MODIFIED:20221104T124853Z
SUMMARY:Reunião Reitor\, PROAD\, Diretoria de Patrimônios e Materiais e Diretoria de Contabilidade e Finanças
DESCRIPTION:Veículos Doados da UFOP em 2021
LOCATION:Reitoria
PRIORITY:3
TRANSP:0
END:VEVENT
END:VCALENDAR
