BEGIN:VCALENDAR
PRODID:brasil.gov.agenda
VERSION:1.0
BEGIN:VEVENT
DTSTART:20221004T140000Z
DTEND:20221004T153000Z
DCREATED:20221104T124945Z
UID:Compromisso-026be224c95447a696c23470f6b29e7d
SEQUENCE:0
LAST-MODIFIED:20221104T124945Z
SUMMARY:Reunião Reitor e Secretaria das Comissões Permanentes
DESCRIPTION:Informações das Comissões Permanentes
LOCATION:Reitoria
PRIORITY:3
TRANSP:0
END:VEVENT
END:VCALENDAR
