BEGIN:VCALENDAR
PRODID:brasil.gov.agenda
VERSION:1.0
BEGIN:VEVENT
DTSTART:20221004T100000Z
DTEND:20221004T120000Z
DCREATED:20221104T124910Z
UID:Compromisso-13a11c802a364272b13580516a4741c4
SEQUENCE:0
LAST-MODIFIED:20221104T124910Z
SUMMARY:Despachos Internos
LOCATION:Reitoria
PRIORITY:3
TRANSP:0
END:VEVENT
END:VCALENDAR
