BEGIN:VCALENDAR
PRODID:brasil.gov.agenda
VERSION:1.0
BEGIN:VEVENT
DTSTART:20221004T153000Z
DTEND:20221004T180000Z
DCREATED:20221104T125003Z
UID:Compromisso-225d67d5838547ceb153d1fdab52673d
SEQUENCE:0
LAST-MODIFIED:20221104T125003Z
SUMMARY:Despachos Internos
LOCATION:Reitoria
PRIORITY:3
TRANSP:0
END:VEVENT
END:VCALENDAR
