BEGIN:VCALENDAR
PRODID:brasil.gov.agenda
VERSION:1.0
BEGIN:VEVENT
DTSTART:20221003T160000Z
DTEND:20221003T180000Z
DCREATED:20221104T124753Z
UID:Compromisso-28b0739ae1e04dbdb81c49939561b796
SEQUENCE:0
LAST-MODIFIED:20221104T124753Z
SUMMARY:Reunião Reitor e Direção da FACET
DESCRIPTION:Afastamento Docente FACET
LOCATION:Reitoria
PRIORITY:3
TRANSP:0
END:VEVENT
END:VCALENDAR
