BEGIN:VCALENDAR
PRODID:brasil.gov.agenda
VERSION:1.0
BEGIN:VEVENT
DTSTART:20221003T080000Z
DTEND:20221003T120000Z
DCREATED:20221104T124613Z
UID:Compromisso-4f09c3224b6841668b29aef4e0f507b9
SEQUENCE:0
LAST-MODIFIED:20221104T124613Z
SUMMARY:Despachos Internos
LOCATION:Reitoria
PRIORITY:3
TRANSP:0
END:VEVENT
END:VCALENDAR
