BEGIN:VCALENDAR
PRODID:brasil.gov.agenda
VERSION:1.0
BEGIN:VEVENT
DTSTART:20221003T150000Z
DTEND:20221003T160000Z
DCREATED:20221104T124711Z
UID:Compromisso-2b662b02a9064ef0a4a69bd0f5ca7030
SEQUENCE:0
LAST-MODIFIED:20221104T124711Z
SUMMARY:Colação de Grau Posterior
LOCATION:Reitoria
PRIORITY:3
TRANSP:0
END:VEVENT
END:VCALENDAR
