BEGIN:VCALENDAR
PRODID:brasil.gov.agenda
VERSION:1.0
BEGIN:VEVENT
DTSTART:20221003T140000Z
DTEND:20221003T150000Z
DCREATED:20221104T124639Z
UID:Compromisso-db753eacd97a483aa4223b1278333939
SEQUENCE:0
LAST-MODIFIED:20221104T124639Z
SUMMARY:Colação de Grau Antecipada
LOCATION:Reitoria
PRIORITY:3
TRANSP:0
END:VEVENT
END:VCALENDAR
