BEGIN:VCALENDAR
PRODID:brasil.gov.agenda
VERSION:1.0
BEGIN:VEVENT
DTSTART:20220928T080000Z
DTEND:20220928T120000Z
DCREATED:20221004T141340Z
UID:Compromisso-b081e8184a1747b4ba8d2a4053392b1e
SEQUENCE:0
LAST-MODIFIED:20221004T141340Z
SUMMARY:291ª reunião do CONSU\, sendo a 157ª sessão ordinária
LOCATION:Reitoria
PRIORITY:3
TRANSP:0
END:VEVENT
END:VCALENDAR
