BEGIN:VCALENDAR
PRODID:brasil.gov.agenda
VERSION:1.0
BEGIN:VEVENT
DTSTART:20220928T140000Z
DTEND:20220928T180000Z
DCREATED:20221004T141403Z
UID:Compromisso-81f580f648e5459fb0262db991b64b38
SEQUENCE:0
LAST-MODIFIED:20221004T141403Z
SUMMARY:291ª reunião do CONSU\, sendo a 157ª sessão ordinária
LOCATION:Reitoria
PRIORITY:3
TRANSP:0
END:VEVENT
END:VCALENDAR
