BEGIN:VCALENDAR
PRODID:brasil.gov.agenda
VERSION:1.0
BEGIN:VEVENT
DTSTART:20220927T150000Z
DTEND:20220927T170000Z
DCREATED:20221004T141249Z
UID:Compromisso-f9448edb100d4802bfc679ac4d9224aa
SEQUENCE:0
LAST-MODIFIED:20221004T141249Z
SUMMARY:Reunião Reitor e Pró-reitores
DESCRIPTION:Análise da apresentação Balanço e Perspectivas - Conti
 nuidade das apresentações na segunda feira\, às 9h.
LOCATION:Reitoria
PRIORITY:3
TRANSP:0
END:VEVENT
END:VCALENDAR
