BEGIN:VCALENDAR
PRODID:brasil.gov.agenda
VERSION:1.0
BEGIN:VEVENT
DTSTART:20220927T080000Z
DTEND:20220927T120000Z
DCREATED:20221004T141144Z
UID:Compromisso-cc04e87866044e4881a46d2a5f63b01f
SEQUENCE:0
LAST-MODIFIED:20221004T141144Z
SUMMARY:Despachos Internos
LOCATION:Reitoria
PRIORITY:3
TRANSP:0
END:VEVENT
END:VCALENDAR
