BEGIN:VCALENDAR
PRODID:brasil.gov.agenda
VERSION:1.0
BEGIN:VEVENT
DTSTART:20220927T140000Z
DTEND:20220927T150000Z
DCREATED:20221004T141215Z
UID:Compromisso-a6399d36beef4d81bfbdedcea12f2938
SEQUENCE:0
LAST-MODIFIED:20221004T141215Z
SUMMARY:Abertura - Segundo Ciclo de Políticas para os Polos de apoio presencial na DEAD/UFVJM
LOCATION:Reitoria
PRIORITY:3
TRANSP:0
END:VEVENT
END:VCALENDAR
