BEGIN:VCALENDAR
PRODID:brasil.gov.agenda
VERSION:1.0
BEGIN:VEVENT
DTSTART:20220926T080000Z
DTEND:20220926T120000Z
DCREATED:20221004T141014Z
UID:Compromisso-ad82014844324f4e9e703f679f4f60fe
SEQUENCE:0
LAST-MODIFIED:20221004T141014Z
SUMMARY:Reunião Reitor PROGEP E SISBI
DESCRIPTION:Balanço e Perspectivas 2022
LOCATION:Reitoria
PRIORITY:3
TRANSP:0
END:VEVENT
END:VCALENDAR
