BEGIN:VCALENDAR
PRODID:brasil.gov.agenda
VERSION:1.0
BEGIN:VEVENT
DTSTART:20220926T140000Z
DTEND:20220926T180000Z
DCREATED:20221004T141045Z
UID:Compromisso-b16c81175e85421fae0eaa7277f0ec9c
SEQUENCE:0
LAST-MODIFIED:20221004T141046Z
SUMMARY:Despachos Internos
LOCATION:Reitoria
PRIORITY:3
TRANSP:0
END:VEVENT
END:VCALENDAR
