BEGIN:VCALENDAR
PRODID:brasil.gov.agenda
VERSION:1.0
BEGIN:VEVENT
DTSTART:20220923T080000Z
DTEND:20220923T100000Z
DCREATED:20220926T174745Z
UID:Compromisso-6e3474f308f54f5f827a899142b86b70
SEQUENCE:0
LAST-MODIFIED:20220926T174745Z
SUMMARY:Visita Técnica ao Anexo IV e Bloco D
DESCRIPTION:Organização da Secretaria Geral da FCA e dos Administrat
 ivos da DPS\, e SUPERAGRO\, e dos Setores de Produção do ICT.
LOCATION:Reitoria
PRIORITY:3
TRANSP:0
END:VEVENT
END:VCALENDAR
