BEGIN:VCALENDAR
PRODID:brasil.gov.agenda
VERSION:1.0
BEGIN:VEVENT
DTSTART:20220923T100000Z
DTEND:20220923T120000Z
DCREATED:20220926T174819Z
UID:Compromisso-97568b9ce35442a6bb2622d0de241a76
SEQUENCE:0
LAST-MODIFIED:20220926T174819Z
SUMMARY:Colação de Grau Antecipada
LOCATION:Reitoria
PRIORITY:3
TRANSP:0
END:VEVENT
END:VCALENDAR
