BEGIN:VCALENDAR
PRODID:brasil.gov.agenda
VERSION:1.0
BEGIN:VEVENT
DTSTART:20220922T140000Z
DTEND:20220922T170000Z
DCREATED:20220926T174634Z
UID:Compromisso-6cef795eff1f4d7fbf35847eee4ac148
SEQUENCE:0
LAST-MODIFIED:20220926T174634Z
SUMMARY:Reunião Reitor PROACE\, e Departamento de Odontologia
DESCRIPTION:Demarcação de Estacionamento Campus I
LOCATION:Reitoria
PRIORITY:3
TRANSP:0
END:VEVENT
END:VCALENDAR
