BEGIN:VCALENDAR
PRODID:brasil.gov.agenda
VERSION:1.0
BEGIN:VEVENT
DTSTART:20220922T080000Z
DTEND:20220922T120000Z
DCREATED:20220926T174554Z
UID:Compromisso-801d76d874d94bb385ea57eedd0ed29a
SEQUENCE:0
LAST-MODIFIED:20220926T174554Z
SUMMARY:Abertura do V Congresso Mineiro de Farmácia
LOCATION:Reitoria
PRIORITY:3
TRANSP:0
END:VEVENT
END:VCALENDAR
