BEGIN:VCALENDAR
PRODID:brasil.gov.agenda
VERSION:1.0
BEGIN:VEVENT
DTSTART:20220921T080000Z
DTEND:20220921T120000Z
DCREATED:20220926T174432Z
UID:Compromisso-467cfbc425a94fe9accf81c78f1edb3a
SEQUENCE:0
LAST-MODIFIED:20220926T174432Z
SUMMARY:Despachos Internos
LOCATION:Reitoria
PRIORITY:3
TRANSP:0
END:VEVENT
END:VCALENDAR
