BEGIN:VCALENDAR
PRODID:brasil.gov.agenda
VERSION:1.0
BEGIN:VEVENT
DTSTART:20220921T140000Z
DTEND:20220921T180000Z
DCREATED:20220926T174450Z
UID:Compromisso-c94a759df041490b94f811791c3eba78
SEQUENCE:0
LAST-MODIFIED:20220926T174450Z
SUMMARY:Despachos Internos
LOCATION:Reitoria
PRIORITY:3
TRANSP:0
END:VEVENT
END:VCALENDAR
