BEGIN:VCALENDAR
PRODID:brasil.gov.agenda
VERSION:1.0
BEGIN:VEVENT
DTSTART:20220920T100000Z
DTEND:20220920T110000Z
DCREATED:20220926T174222Z
UID:Compromisso-fd2c813961ed45cc84c3c175efdd5f29
SEQUENCE:0
LAST-MODIFIED:20220926T174222Z
SUMMARY:Reunião Reitor PROGEP E SISBI
DESCRIPTION:Espaços da SUPERAGRO
LOCATION:Reitoria
PRIORITY:3
TRANSP:0
END:VEVENT
END:VCALENDAR
