BEGIN:VCALENDAR
PRODID:brasil.gov.agenda
VERSION:1.0
BEGIN:VEVENT
DTSTART:20220920T140000Z
DTEND:20220920T180000Z
DCREATED:20220926T174328Z
UID:Compromisso-62d1f7bc21d143d5bfb7c4920a8b7794
SEQUENCE:0
LAST-MODIFIED:20220926T174329Z
SUMMARY:Despachos Internos
LOCATION:Reitoria
PRIORITY:3
TRANSP:0
END:VEVENT
END:VCALENDAR
