BEGIN:VCALENDAR
PRODID:brasil.gov.agenda
VERSION:1.0
BEGIN:VEVENT
DTSTART:20220919T080000Z
DTEND:20220919T120000Z
DCREATED:20220926T173847Z
UID:Compromisso-07bb9c3e726d4a93b2ead89fea3294b5
SEQUENCE:0
LAST-MODIFIED:20220926T173847Z
SUMMARY:39ª Reunião do CGIRC
LOCATION:Reitoria
PRIORITY:3
TRANSP:0
END:VEVENT
END:VCALENDAR
