BEGIN:VCALENDAR
PRODID:brasil.gov.agenda
VERSION:1.0
BEGIN:VEVENT
DTSTART:20220916T140000Z
DTEND:20220916T180000Z
DCREATED:20220920T134349Z
UID:Compromisso-0ca727738de04376af1cbd3b06e157d6
SEQUENCE:0
LAST-MODIFIED:20220920T134349Z
SUMMARY:Reunião Reitor Secretaria do CONSEPE
DESCRIPTION:Pauta Reunião CONSEPE
LOCATION:Reitoria
PRIORITY:3
TRANSP:0
END:VEVENT
END:VCALENDAR
