BEGIN:VCALENDAR
PRODID:brasil.gov.agenda
VERSION:1.0
BEGIN:VEVENT
DTSTART:20220916T080000Z
DTEND:20220916T120000Z
DCREATED:20220920T134227Z
UID:Compromisso-9f0549121534473dbff7883e16d27aba
SEQUENCE:0
LAST-MODIFIED:20220920T134228Z
SUMMARY:Reunião Reitor e Secretaria do CONSU
DESCRIPTION:Pauta Reunião CONSU
LOCATION:Reitoria
PRIORITY:3
TRANSP:0
END:VEVENT
END:VCALENDAR
