BEGIN:VCALENDAR
PRODID:brasil.gov.agenda
VERSION:1.0
BEGIN:VEVENT
DTSTART:20220915T140000Z
DTEND:20220915T180000Z
DCREATED:20220920T134103Z
UID:Compromisso-afbe39588ebb4941bdc9f7a1824e70ea
SEQUENCE:0
LAST-MODIFIED:20220920T134104Z
SUMMARY:Reunião Reitor e Diretoria de Orçamento
DESCRIPTION:Relatório de Gestão
LOCATION:Reitoria
PRIORITY:3
TRANSP:0
END:VEVENT
END:VCALENDAR
