BEGIN:VCALENDAR
PRODID:brasil.gov.agenda
VERSION:1.0
BEGIN:VEVENT
DTSTART:20220915T100000Z
DTEND:20220915T120000Z
DCREATED:20220920T134016Z
UID:Compromisso-ebfbd26a1ea84db8a133a5c0953b8176
SEQUENCE:0
LAST-MODIFIED:20220920T134016Z
SUMMARY:Reunião Reitor\, DORC\, DIRADM e PROGEP
DESCRIPTION:Situação dos Servidores Terceirizados da UFVJM
LOCATION:Reitoria
PRIORITY:3
TRANSP:0
END:VEVENT
END:VCALENDAR
