BEGIN:VCALENDAR
PRODID:brasil.gov.agenda
VERSION:1.0
BEGIN:VEVENT
DTSTART:20220915T080000Z
DTEND:20220915T100000Z
DCREATED:20220920T133941Z
UID:Compromisso-c80d9a9d20404b9993035d783498da81
SEQUENCE:0
LAST-MODIFIED:20220920T133941Z
SUMMARY:Reunião Reitor\, DEAD\, PRPPG\, DCP\, DPS
DESCRIPTION:Programa Trilhas de Futuro
LOCATION:Reitoria
PRIORITY:3
TRANSP:0
END:VEVENT
END:VCALENDAR
