BEGIN:VCALENDAR
PRODID:brasil.gov.agenda
VERSION:1.0
BEGIN:VEVENT
DTSTART:20220914T140000Z
DTEND:20220914T180000Z
DCREATED:20220920T133835Z
UID:Compromisso-bb6afa0311e3474383c65317e6f3a202
SEQUENCE:0
LAST-MODIFIED:20220920T133835Z
SUMMARY:Despachos Internos
LOCATION:Reitoria
PRIORITY:3
TRANSP:0
END:VEVENT
END:VCALENDAR
