BEGIN:VCALENDAR
PRODID:brasil.gov.agenda
VERSION:1.0
BEGIN:VEVENT
DTSTART:20220914T000000Z
DTEND:20220914T000000Z
DCREATED:20220920T133817Z
UID:Compromisso-d09593af8f5448b7a927698837a8a5da
SEQUENCE:0
LAST-MODIFIED:20220920T133817Z
SUMMARY:Colação de Grau
LOCATION:Reitoria
PRIORITY:3
TRANSP:0
END:VEVENT
END:VCALENDAR
