BEGIN:VCALENDAR
PRODID:brasil.gov.agenda
VERSION:1.0
BEGIN:VEVENT
DTSTART:20220913T080000Z
DTEND:20220913T120000Z
DCREATED:20220920T133709Z
UID:Compromisso-cb402b81c2044f6f83ea798ffabef1eb
SEQUENCE:0
LAST-MODIFIED:20220920T133709Z
SUMMARY:Reunião com o Ministro Paulo Alvim. Presença dos Reitores da UNIMONTES\, IFNMG\, docentes\, e empresários da região.
DESCRIPTION:Potencial de desenvolvimento da porção setentrional (Val
 es do Jequitinhonha e do Mucuri\, Norte e Noroeste) do estado de Minas
  Gerais\;
LOCATION:Reitoria
PRIORITY:3
TRANSP:0
END:VEVENT
END:VCALENDAR
