BEGIN:VCALENDAR
PRODID:brasil.gov.agenda
VERSION:1.0
BEGIN:VEVENT
DTSTART:20220913T140000Z
DTEND:20220913T180000Z
DCREATED:20220920T133728Z
UID:Compromisso-5a1b8e164be8414cb4b0d890cccf9c11
SEQUENCE:0
LAST-MODIFIED:20220920T133728Z
SUMMARY:Despachos Internos
LOCATION:Reitoria
PRIORITY:3
TRANSP:0
END:VEVENT
END:VCALENDAR
