BEGIN:VCALENDAR
PRODID:brasil.gov.agenda
VERSION:1.0
BEGIN:VEVENT
DTSTART:20220909T080000Z
DTEND:20220909T120000Z
DCREATED:20220920T133401Z
UID:Compromisso-27bbfe08ca614d45b9a82615de966576
SEQUENCE:0
LAST-MODIFIED:20220920T133402Z
SUMMARY:Despachos Internos
LOCATION:Reitoria
PRIORITY:3
TRANSP:0
END:VEVENT
END:VCALENDAR
