BEGIN:VCALENDAR
PRODID:brasil.gov.agenda
VERSION:1.0
BEGIN:VEVENT
DTSTART:20220909T140000Z
DTEND:20220909T180000Z
DCREATED:20220920T133416Z
UID:Compromisso-999db64266b74c9e97245d0ce62aea99
SEQUENCE:0
LAST-MODIFIED:20220920T133416Z
SUMMARY:Despachos Internos
LOCATION:Reitoria
PRIORITY:3
TRANSP:0
END:VEVENT
END:VCALENDAR
