BEGIN:VCALENDAR
PRODID:brasil.gov.agenda
VERSION:1.0
BEGIN:VEVENT
DTSTART:20220905T000000Z
DTEND:20220905T000000Z
DCREATED:20220914T112708Z
UID:Compromisso-6f295ed8c2944cb58c1598a446567833
SEQUENCE:0
LAST-MODIFIED:20220914T112708Z
SUMMARY:Férias Regulamentares
LOCATION:Reitoria
PRIORITY:3
TRANSP:0
END:VEVENT
END:VCALENDAR
