BEGIN:VCALENDAR
PRODID:brasil.gov.agenda
VERSION:1.0
BEGIN:VEVENT
DTSTART:20220902T000000Z
DTEND:20220902T000000Z
DCREATED:20220914T112624Z
UID:Compromisso-d8b0d7e8202949f7bcd0e0afe258e2b2
SEQUENCE:0
LAST-MODIFIED:20220914T112624Z
SUMMARY:Férias Regulamentares
PRIORITY:3
TRANSP:0
END:VEVENT
END:VCALENDAR
