BEGIN:VCALENDAR
PRODID:brasil.gov.agenda
VERSION:1.0
BEGIN:VEVENT
DTSTART:20220901T000000Z
DTEND:20220901T000000Z
DCREATED:20220914T112517Z
UID:Compromisso-270f8dbcdbc9432ebf92ac1c61755241
SEQUENCE:0
LAST-MODIFIED:20220914T112517Z
SUMMARY:Férias Regulamentares
LOCATION:Reitoria
PRIORITY:3
TRANSP:0
END:VEVENT
END:VCALENDAR
