BEGIN:VCALENDAR
PRODID:brasil.gov.agenda
VERSION:1.0
BEGIN:VEVENT
DTSTART:20220831T080000Z
DTEND:20220831T120000Z
DCREATED:20220914T112324Z
UID:Compromisso-143b34e0c45b4310818ee9db08293277
SEQUENCE:0
LAST-MODIFIED:20220914T112324Z
SUMMARY:Retorno da Viagem à Santa Rita do Sapucaí - Visita ao INATEL
LOCATION:Reitoria
PRIORITY:3
TRANSP:0
END:VEVENT
END:VCALENDAR
