BEGIN:VCALENDAR
PRODID:brasil.gov.agenda
VERSION:1.0
BEGIN:VEVENT
DTSTART:20220830T100000Z
DTEND:20220830T103000Z
DCREATED:20220914T111854Z
UID:Compromisso-3d14184515cb4d1dbec1763cb77b4276
SEQUENCE:0
LAST-MODIFIED:20220914T111854Z
SUMMARY:Visita ao WOCA (Hugo)
LOCATION:Reitoria
PRIORITY:3
TRANSP:0
END:VEVENT
END:VCALENDAR
