BEGIN:VCALENDAR
PRODID:brasil.gov.agenda
VERSION:1.0
BEGIN:VEVENT
DTSTART:20220830T140000Z
DTEND:20220830T143000Z
DCREATED:20220914T112038Z
UID:Compromisso-48f84e294c9e49fcaae1b4d51391ed93
SEQUENCE:0
LAST-MODIFIED:20220914T112038Z
SUMMARY:Visita ao Teatro (Eduardo ou Rogério)
LOCATION:Reitoria
PRIORITY:3
TRANSP:0
END:VEVENT
END:VCALENDAR
