BEGIN:VCALENDAR
PRODID:brasil.gov.agenda
VERSION:1.0
BEGIN:VEVENT
DTSTART:20220830T161500Z
DTEND:20220830T171500Z
DCREATED:20220914T112206Z
UID:Compromisso-82f0f492d327436f86ee902a2184f622
SEQUENCE:0
LAST-MODIFIED:20220914T112206Z
SUMMARY:Visita ao Projeto Cidades Inteligentes do Inatel (Lucas)
LOCATION:Reitoria
PRIORITY:3
TRANSP:0
END:VEVENT
END:VCALENDAR
