BEGIN:VCALENDAR
PRODID:brasil.gov.agenda
VERSION:1.0
BEGIN:VEVENT
DTSTART:20220830T093000Z
DTEND:20220830T100000Z
DCREATED:20220914T111809Z
UID:Compromisso-01d0af494a2e472cb5fc32519956538a
SEQUENCE:0
LAST-MODIFIED:20220914T111809Z
SUMMARY:Visita ao CRR (Juliano)
LOCATION:Reitoria
PRIORITY:3
TRANSP:0
END:VEVENT
END:VCALENDAR
