BEGIN:VCALENDAR
PRODID:brasil.gov.agenda
VERSION:1.0
BEGIN:VEVENT
DTSTART:20220830T150000Z
DTEND:20220830T160000Z
DCREATED:20220914T112133Z
UID:Compromisso-593f15b5d10645d6bf4c4467b6b18182
SEQUENCE:0
LAST-MODIFIED:20220914T112133Z
SUMMARY:Visita a ETE (Prof. Eduardo)
LOCATION:Reitoria
PRIORITY:3
TRANSP:0
END:VEVENT
END:VCALENDAR
